BEGIN:VCALENDAR
VERSION:2.0
PRODID:-//ZContent.net//ZapCalLib 1.0//EN
CALSCALE:GREGORIAN
METHOD:PUBLISH
BEGIN:VEVENT
SUMMARY:Ausstellung Von P.J. Mêne bis H.R. Freder – Skulpturen der Samml
 ung
DTSTART:20261206T120000
DTEND:20261206T170000
DTSTAMP:20260422T215700
LOCATION:Gotisches Haus
END:VEVENT
END:VCALENDAR
